BEGIN:VCALENDAR
VERSION:2.0
PRODID:-//Goldgrube//myauktion.com//AT
CALSCALE:GREGORIAN
BEGIN:VEVENT
DTSTART:20260503T161600
DTEND:20260503T161630
LOCATION:Gewerbepark 13, 8562 Mooskirchen
DTSTAMP:20260419T192402
SUMMARY:MyAuktion: Ablauf Artikel Nr. 956256 KoRo Bio Sesam 1kg 
URL;VALUE=URI:https://www.myauktion.com/versteigerung7640-position2439949-koro-bio-sesam-1kg.php
DESCRIPTION:Mhd 30.06.27
UID:myauktion-7640-2439949
BEGIN:VALARM
ACTION:DISPLAY
DESCRIPTION:Mhd 30.06.27
TRIGGER:-PT10M
END:VALARM
END:VEVENT
END:VCALENDAR