BEGIN:VCALENDAR
VERSION:2.0
PRODID:-//Goldgrube//myauktion.com//AT
CALSCALE:GREGORIAN
BEGIN:VEVENT
DTSTART:20260503T161700
DTEND:20260503T161730
LOCATION:Gewerbepark 13, 8562 Mooskirchen
DTSTAMP:20260419T192402
SUMMARY:MyAuktion: Ablauf Artikel Nr. 956257 Wohldan Nopal Pulver330g 
URL;VALUE=URI:https://www.myauktion.com/versteigerung7640-position2439950-wohldan-nopal-pulver330g.php
DESCRIPTION:Mhd 12.05.28
UID:myauktion-7640-2439950
BEGIN:VALARM
ACTION:DISPLAY
DESCRIPTION:Mhd 12.05.28
TRIGGER:-PT10M
END:VALARM
END:VEVENT
END:VCALENDAR