BEGIN:VCALENDAR
VERSION:2.0
PRODID:-//Goldgrube//myauktion.com//AT
CALSCALE:GREGORIAN
BEGIN:VEVENT
DTSTART:20260503T162500
DTEND:20260503T162530
LOCATION:Gewerbepark 13, 8562 Mooskirchen
DTSTAMP:20260419T192402
SUMMARY:MyAuktion: Ablauf Artikel Nr. 956262 Vita Energy 120 Kapseln 
URL;VALUE=URI:https://www.myauktion.com/versteigerung7640-position2439955-vita-energy-120-kapseln.php
DESCRIPTION:Mhd 06.27
UID:myauktion-7640-2439955
BEGIN:VALARM
ACTION:DISPLAY
DESCRIPTION:Mhd 06.27
TRIGGER:-PT10M
END:VALARM
END:VEVENT
END:VCALENDAR