BEGIN:VCALENDAR
VERSION:2.0
PRODID:-//Goldgrube//myauktion.com//AT
CALSCALE:GREGORIAN
BEGIN:VEVENT
DTSTART:20260503T162800
DTEND:20260503T162830
LOCATION:Gewerbepark 13, 8562 Mooskirchen
DTSTAMP:20260419T192400
SUMMARY:MyAuktion: Ablauf Artikel Nr. 956264 Diverse Lebensmittel 
URL;VALUE=URI:https://www.myauktion.com/versteigerung7640-position2439957-diverse-lebensmittel.php
DESCRIPTION:Mhd mindestens bis 08.26
UID:myauktion-7640-2439957
BEGIN:VALARM
ACTION:DISPLAY
DESCRIPTION:Mhd mindestens bis 08.26
TRIGGER:-PT10M
END:VALARM
END:VEVENT
END:VCALENDAR