BEGIN:VCALENDAR
VERSION:2.0
PRODID:-//Goldgrube//myauktion.com//AT
CALSCALE:GREGORIAN
BEGIN:VEVENT
DTSTART:20260503T164700
DTEND:20260503T164730
LOCATION:Gewerbepark 13, 8562 Mooskirchen
DTSTAMP:20260419T192358
SUMMARY:MyAuktion: Ablauf Artikel Nr. 956362 Monchique natürliches alkalisches Mineralwasser 6x 720ml 
URL;VALUE=URI:https://www.myauktion.com/versteigerung7640-position2439962-monchique-natuerliches-alkalisches-mineralwasser-6x-720ml.php
DESCRIPTION:Mhd 09.27
UID:myauktion-7640-2439962
BEGIN:VALARM
ACTION:DISPLAY
DESCRIPTION:Mhd 09.27
TRIGGER:-PT10M
END:VALARM
END:VEVENT
END:VCALENDAR