BEGIN:VCALENDAR
VERSION:2.0
PRODID:-//Goldgrube//myauktion.com//AT
CALSCALE:GREGORIAN
BEGIN:VEVENT
DTSTART:20260503T165300
DTEND:20260503T165330
LOCATION:Gewerbepark 13, 8562 Mooskirchen
DTSTAMP:20260419T192403
SUMMARY:MyAuktion: Ablauf Artikel Nr. 956365 Nicolas Vahé Salzmühle „Lemon & Thyme 320g 
URL;VALUE=URI:https://www.myauktion.com/versteigerung7640-position2439964-nicolas-vahe-salzmuehle-lemon-38-thyme-320g.php
DESCRIPTION:Mhd 02.27
UID:myauktion-7640-2439964
BEGIN:VALARM
ACTION:DISPLAY
DESCRIPTION:Mhd 02.27
TRIGGER:-PT10M
END:VALARM
END:VEVENT
END:VCALENDAR