BEGIN:VCALENDAR
VERSION:2.0
PRODID:-//Goldgrube//myauktion.com//AT
CALSCALE:GREGORIAN
BEGIN:VEVENT
DTSTART:20260503T165600
DTEND:20260503T165630
LOCATION:Gewerbepark 13, 8562 Mooskirchen
DTSTAMP:20260419T142658
SUMMARY:MyAuktion: Ablauf Artikel Nr. 956366 Hausbrandt Intenso 10x5g 
URL;VALUE=URI:https://www.myauktion.com/versteigerung7640-position2439965-hausbrandt-intenso-10x5g.php
DESCRIPTION:Mhd 02.27
UID:myauktion-7640-2439965
BEGIN:VALARM
ACTION:DISPLAY
DESCRIPTION:Mhd 02.27
TRIGGER:-PT10M
END:VALARM
END:VEVENT
END:VCALENDAR