BEGIN:VCALENDAR
VERSION:2.0
PRODID:-//Goldgrube//myauktion.com//AT
CALSCALE:GREGORIAN
BEGIN:VEVENT
DTSTART:20260503T165800
DTEND:20260503T165830
LOCATION:Gewerbepark 13, 8562 Mooskirchen
DTSTAMP:20260419T142657
SUMMARY:MyAuktion: Ablauf Artikel Nr. 956367 Hausbrandt Colombia 10x5g 
URL;VALUE=URI:https://www.myauktion.com/versteigerung7640-position2439967-hausbrandt-colombia-10x5g.php
DESCRIPTION:Mhd 02.27
UID:myauktion-7640-2439967
BEGIN:VALARM
ACTION:DISPLAY
DESCRIPTION:Mhd 02.27
TRIGGER:-PT10M
END:VALARM
END:VEVENT
END:VCALENDAR