BEGIN:VCALENDAR
VERSION:2.0
PRODID:-//Goldgrube//myauktion.com//AT
CALSCALE:GREGORIAN
BEGIN:VEVENT
DTSTART:20260503T170100
DTEND:20260503T170130
LOCATION:Gewerbepark 13, 8562 Mooskirchen
DTSTAMP:20260419T154443
SUMMARY:MyAuktion: Ablauf Artikel Nr. 956369 Hausbrandt Gourmet 10x5g 
URL;VALUE=URI:https://www.myauktion.com/versteigerung7640-position2439969-hausbrandt-gourmet-10x5g.php
DESCRIPTION:Mhd 02.05.26
UID:myauktion-7640-2439969
BEGIN:VALARM
ACTION:DISPLAY
DESCRIPTION:Mhd 02.05.26
TRIGGER:-PT10M
END:VALARM
END:VEVENT
END:VCALENDAR