BEGIN:VCALENDAR
VERSION:2.0
PRODID:-//Goldgrube//myauktion.com//AT
CALSCALE:GREGORIAN
BEGIN:VEVENT
DTSTART:20260503T135600
DTEND:20260503T135630
LOCATION:Gewerbepark 13, 8562 Mooskirchen
DTSTAMP:20260419T205717
SUMMARY:MyAuktion: Ablauf Artikel Nr. 955357 Cup&Cino Chocolato Kakaohaltiges Getränk je 1000g
URL;VALUE=URI:https://www.myauktion.com/versteigerung7640-position2439971-cup-38cino-chocolato-kakaohaltiges-getraenk-je-1000g.php
DESCRIPTION:MHD: 10/2026
UID:myauktion-7640-2439971
BEGIN:VALARM
ACTION:DISPLAY
DESCRIPTION:MHD: 10/2026
TRIGGER:-PT10M
END:VALARM
END:VEVENT
END:VCALENDAR