BEGIN:VCALENDAR
VERSION:2.0
PRODID:-//Goldgrube//myauktion.com//AT
CALSCALE:GREGORIAN
BEGIN:VEVENT
DTSTART:20260503T170400
DTEND:20260503T170430
LOCATION:Gewerbepark 13, 8562 Mooskirchen
DTSTAMP:20260419T192353
SUMMARY:MyAuktion: Ablauf Artikel Nr. 956370 Rostock Apfel Rose Cheers 250ml 
URL;VALUE=URI:https://www.myauktion.com/versteigerung7640-position2439973-rostock-apfel-rose-cheers-250ml.php
DESCRIPTION:
UID:myauktion-7640-2439973
BEGIN:VALARM
ACTION:DISPLAY
DESCRIPTION:
TRIGGER:-PT10M
END:VALARM
END:VEVENT
END:VCALENDAR