BEGIN:VCALENDAR
VERSION:2.0
PRODID:-//Goldgrube//myauktion.com//AT
CALSCALE:GREGORIAN
BEGIN:VEVENT
DTSTART:20260503T140400
DTEND:20260503T140430
LOCATION:Gewerbepark 13, 8562 Mooskirchen
DTSTAMP:20260419T154442
SUMMARY:MyAuktion: Ablauf Artikel Nr. 955362 Frohes Fest Kräuterlikör 4er Set
URL;VALUE=URI:https://www.myauktion.com/versteigerung7640-position2439975-frohes-fest-kraeuterlikoer-4er-set.php
DESCRIPTION:
UID:myauktion-7640-2439975
BEGIN:VALARM
ACTION:DISPLAY
DESCRIPTION:
TRIGGER:-PT10M
END:VALARM
END:VEVENT
END:VCALENDAR