BEGIN:VCALENDAR
VERSION:2.0
PRODID:-//Goldgrube//myauktion.com//AT
CALSCALE:GREGORIAN
BEGIN:VEVENT
DTSTART:20260503T140700
DTEND:20260503T140730
LOCATION:Gewerbepark 13, 8562 Mooskirchen
DTSTAMP:20260419T192405
SUMMARY:MyAuktion: Ablauf Artikel Nr. 955363 Kaffa Wildkaffee Espresso je 220g
URL;VALUE=URI:https://www.myauktion.com/versteigerung7640-position2439976-kaffa-wildkaffee-espresso-je-220g.php
DESCRIPTION:23.05.2026
UID:myauktion-7640-2439976
BEGIN:VALARM
ACTION:DISPLAY
DESCRIPTION:23.05.2026
TRIGGER:-PT10M
END:VALARM
END:VEVENT
END:VCALENDAR