BEGIN:VCALENDAR
VERSION:2.0
PRODID:-//Goldgrube//myauktion.com//AT
CALSCALE:GREGORIAN
BEGIN:VEVENT
DTSTART:20260503T141400
DTEND:20260503T141430
LOCATION:Gewerbepark 13, 8562 Mooskirchen
DTSTAMP:20260419T154441
SUMMARY:MyAuktion: Ablauf Artikel Nr. 955367 Seewald Ortho Zink Forte 30 je 34g
URL;VALUE=URI:https://www.myauktion.com/versteigerung7640-position2439978-seewald-ortho-zink-forte-30-je-34g.php
DESCRIPTION:MHD: 02/2028
UID:myauktion-7640-2439978
BEGIN:VALARM
ACTION:DISPLAY
DESCRIPTION:MHD: 02/2028
TRIGGER:-PT10M
END:VALARM
END:VEVENT
END:VCALENDAR