BEGIN:VCALENDAR
VERSION:2.0
PRODID:-//Goldgrube//myauktion.com//AT
CALSCALE:GREGORIAN
BEGIN:VEVENT
DTSTART:20260503T152400
DTEND:20260503T152430
LOCATION:Gewerbepark 13, 8562 Mooskirchen
DTSTAMP:20260419T154443
SUMMARY:MyAuktion: Ablauf Artikel Nr. 956227 Sunday Natural Coenzym Q10 60 Kapseln 
URL;VALUE=URI:https://www.myauktion.com/versteigerung7640-position2439995-sunday-natural-coenzym-q10-60-kapseln.php
DESCRIPTION:Mhd 27.05.27
UID:myauktion-7640-2439995
BEGIN:VALARM
ACTION:DISPLAY
DESCRIPTION:Mhd 27.05.27
TRIGGER:-PT10M
END:VALARM
END:VEVENT
END:VCALENDAR