BEGIN:VCALENDAR
VERSION:2.0
PRODID:-//Goldgrube//myauktion.com//AT
CALSCALE:GREGORIAN
BEGIN:VEVENT
DTSTART:20260503T152800
DTEND:20260503T152830
LOCATION:Gewerbepark 13, 8562 Mooskirchen
DTSTAMP:20260419T154441
SUMMARY:MyAuktion: Ablauf Artikel Nr. 956228 Sunday Natural Kollagen Ovoderm 60 kapseln 
URL;VALUE=URI:https://www.myauktion.com/versteigerung7640-position2439996-sunday-natural-kollagen-ovoderm-60-kapseln.php
DESCRIPTION:Mhd 07.28
UID:myauktion-7640-2439996
BEGIN:VALARM
ACTION:DISPLAY
DESCRIPTION:Mhd 07.28
TRIGGER:-PT10M
END:VALARM
END:VEVENT
END:VCALENDAR