BEGIN:VCALENDAR
VERSION:2.0
PRODID:-//Goldgrube//myauktion.com//AT
CALSCALE:GREGORIAN
BEGIN:VEVENT
DTSTART:20260503T172300
DTEND:20260503T172330
LOCATION:Gewerbepark 13, 8562 Mooskirchen
DTSTAMP:20260419T192354
SUMMARY:MyAuktion: Ablauf Artikel Nr. 957033 Sunday Natural Vitamin C Kapseln je 83,2g
URL;VALUE=URI:https://www.myauktion.com/versteigerung7640-position2440000-sunday-natural-vitamin-c-kapseln-je-832g.php
DESCRIPTION:MHD: 14.07.2026
UID:myauktion-7640-2440000
BEGIN:VALARM
ACTION:DISPLAY
DESCRIPTION:MHD: 14.07.2026
TRIGGER:-PT10M
END:VALARM
END:VEVENT
END:VCALENDAR