BEGIN:VCALENDAR
VERSION:2.0
PRODID:-//Goldgrube//myauktion.com//AT
CALSCALE:GREGORIAN
BEGIN:VEVENT
DTSTART:20260503T172700
DTEND:20260503T172730
LOCATION:Gewerbepark 13, 8562 Mooskirchen
DTSTAMP:20260419T192355
SUMMARY:MyAuktion: Ablauf Artikel Nr. 957035 Lor Espresso Profondo je 52g
URL;VALUE=URI:https://www.myauktion.com/versteigerung7640-position2440003-lor-espresso-profondo-je-52g.php
DESCRIPTION:MHD: 11.10.2026
UID:myauktion-7640-2440003
BEGIN:VALARM
ACTION:DISPLAY
DESCRIPTION:MHD: 11.10.2026
TRIGGER:-PT10M
END:VALARM
END:VEVENT
END:VCALENDAR