BEGIN:VCALENDAR
VERSION:2.0
PRODID:-//Goldgrube//myauktion.com//AT
CALSCALE:GREGORIAN
BEGIN:VEVENT
DTSTART:20260503T154500
DTEND:20260503T154530
LOCATION:Gewerbepark 13, 8562 Mooskirchen
DTSTAMP:20260419T192352
SUMMARY:MyAuktion: Ablauf Artikel Nr. 956237 Neckenmarkt Die Winzer Neckenmarkt 1l
URL;VALUE=URI:https://www.myauktion.com/versteigerung7640-position2440005-neckenmarkt-die-winzer-neckenmarkt-1l.php
DESCRIPTION:
UID:myauktion-7640-2440005
BEGIN:VALARM
ACTION:DISPLAY
DESCRIPTION:
TRIGGER:-PT10M
END:VALARM
END:VEVENT
END:VCALENDAR