BEGIN:VCALENDAR
VERSION:2.0
PRODID:-//Goldgrube//myauktion.com//AT
CALSCALE:GREGORIAN
BEGIN:VEVENT
DTSTART:20260503T173400
DTEND:20260503T173430
LOCATION:Gewerbepark 13, 8562 Mooskirchen
DTSTAMP:20260419T192346
SUMMARY:MyAuktion: Ablauf Artikel Nr. 957038 ApoFit Sanddornbeeren je 100g
URL;VALUE=URI:https://www.myauktion.com/versteigerung7640-position2440007-apofit-sanddornbeeren-je-100g.php
DESCRIPTION:MHD: 11.03.2028
UID:myauktion-7640-2440007
BEGIN:VALARM
ACTION:DISPLAY
DESCRIPTION:MHD: 11.03.2028
TRIGGER:-PT10M
END:VALARM
END:VEVENT
END:VCALENDAR