BEGIN:VCALENDAR
VERSION:2.0
PRODID:-//Goldgrube//myauktion.com//AT
CALSCALE:GREGORIAN
BEGIN:VEVENT
DTSTART:20260503T175200
DTEND:20260503T175230
LOCATION:Gewerbepark 13, 8562 Mooskirchen
DTSTAMP:20260419T154427
SUMMARY:MyAuktion: Ablauf Artikel Nr. 957045 BioGena One Getränkepulver Apfel-Kiwi, je 300g
URL;VALUE=URI:https://www.myauktion.com/versteigerung7640-position2440017-biogena-one-getraenkepulver-apfel-kiwi-je-300g.php
DESCRIPTION:MHD: 18.08.2027
UID:myauktion-7640-2440017
BEGIN:VALARM
ACTION:DISPLAY
DESCRIPTION:MHD: 18.08.2027
TRIGGER:-PT10M
END:VALARM
END:VEVENT
END:VCALENDAR