BEGIN:VCALENDAR
VERSION:2.0
PRODID:-//Goldgrube//myauktion.com//AT
CALSCALE:GREGORIAN
BEGIN:VEVENT
DTSTART:20260503T161100
DTEND:20260503T161130
LOCATION:Gewerbepark 13, 8562 Mooskirchen
DTSTAMP:20260419T145056
SUMMARY:MyAuktion: Ablauf Artikel Nr. 956252 ESN Desinger Vefan Protein 900g 
URL;VALUE=URI:https://www.myauktion.com/versteigerung7640-position2440021-esn-desinger-vefan-protein-900g.php
DESCRIPTION:Mhd 31.03.27
UID:myauktion-7640-2440021
BEGIN:VALARM
ACTION:DISPLAY
DESCRIPTION:Mhd 31.03.27
TRIGGER:-PT10M
END:VALARM
END:VEVENT
END:VCALENDAR