BEGIN:VCALENDAR
VERSION:2.0
PRODID:-//Goldgrube//myauktion.com//AT
CALSCALE:GREGORIAN
BEGIN:VEVENT
DTSTART:20260503T162100
DTEND:20260503T162130
LOCATION:Gewerbepark 13, 8562 Mooskirchen
DTSTAMP:20260419T192350
SUMMARY:MyAuktion: Ablauf Artikel Nr. 956260 Vita Intense 1000ml 
URL;VALUE=URI:https://www.myauktion.com/versteigerung7640-position2440023-vita-intense-1000ml.php
DESCRIPTION:Mhd 09.26
UID:myauktion-7640-2440023
BEGIN:VALARM
ACTION:DISPLAY
DESCRIPTION:Mhd 09.26
TRIGGER:-PT10M
END:VALARM
END:VEVENT
END:VCALENDAR