BEGIN:VCALENDAR
VERSION:2.0
PRODID:-//Goldgrube//myauktion.com//AT
CALSCALE:GREGORIAN
BEGIN:VEVENT
DTSTART:20260503T162300
DTEND:20260503T162330
LOCATION:Gewerbepark 13, 8562 Mooskirchen
DTSTAMP:20260419T192340
SUMMARY:MyAuktion: Ablauf Artikel Nr. 956261 Lava Pure Proszek 400g 
URL;VALUE=URI:https://www.myauktion.com/versteigerung7640-position2440024-lava-pure-proszek-400g.php
DESCRIPTION:Mhd 28.2.30
UID:myauktion-7640-2440024
BEGIN:VALARM
ACTION:DISPLAY
DESCRIPTION:Mhd 28.2.30
TRIGGER:-PT10M
END:VALARM
END:VEVENT
END:VCALENDAR