BEGIN:VCALENDAR
VERSION:2.0
PRODID:-//Goldgrube//myauktion.com//AT
CALSCALE:GREGORIAN
BEGIN:VEVENT
DTSTART:20260503T162700
DTEND:20260503T162730
LOCATION:Gewerbepark 13, 8562 Mooskirchen
DTSTAMP:20260419T162733
SUMMARY:MyAuktion: Ablauf Artikel Nr. 956263 De Echte Oldtimers Scheepsknopen 325g
URL;VALUE=URI:https://www.myauktion.com/versteigerung7640-position2440025-de-echte-oldtimers-scheepsknopen-325g.php
DESCRIPTION:Mhd 10.26
UID:myauktion-7640-2440025
BEGIN:VALARM
ACTION:DISPLAY
DESCRIPTION:Mhd 10.26
TRIGGER:-PT10M
END:VALARM
END:VEVENT
END:VCALENDAR