BEGIN:VCALENDAR
VERSION:2.0
PRODID:-//Goldgrube//myauktion.com//AT
CALSCALE:GREGORIAN
BEGIN:VEVENT
DTSTART:20260503T163300
DTEND:20260503T163330
LOCATION:Gewerbepark 13, 8562 Mooskirchen
DTSTAMP:20260419T192340
SUMMARY:MyAuktion: Ablauf Artikel Nr. 956351 J. Honig Alles Bio 500g Gemahlen 
URL;VALUE=URI:https://www.myauktion.com/versteigerung7640-position2440026-j-honig-alles-bio-500g-gemahlen.php
DESCRIPTION:Mhd. 01.27
UID:myauktion-7640-2440026
BEGIN:VALARM
ACTION:DISPLAY
DESCRIPTION:Mhd. 01.27
TRIGGER:-PT10M
END:VALARM
END:VEVENT
END:VCALENDAR