BEGIN:VCALENDAR
VERSION:2.0
PRODID:-//Goldgrube//myauktion.com//AT
CALSCALE:GREGORIAN
BEGIN:VEVENT
DTSTART:20260503T135800
DTEND:20260503T135830
LOCATION:Gewerbepark 13, 8562 Mooskirchen
DTSTAMP:20260419T142649
SUMMARY:MyAuktion: Ablauf Artikel Nr. 955358 Green Essence Kokosmehl je 1Kg
URL;VALUE=URI:https://www.myauktion.com/versteigerung7640-position2440033-green-essence-kokosmehl-je-1kg.php
DESCRIPTION:MHD: 28.09.2026
UID:myauktion-7640-2440033
BEGIN:VALARM
ACTION:DISPLAY
DESCRIPTION:MHD: 28.09.2026
TRIGGER:-PT10M
END:VALARM
END:VEVENT
END:VCALENDAR