BEGIN:VCALENDAR
VERSION:2.0
PRODID:-//Goldgrube//myauktion.com//AT
CALSCALE:GREGORIAN
BEGIN:VEVENT
DTSTART:20260503T140900
DTEND:20260503T140930
LOCATION:Gewerbepark 13, 8562 Mooskirchen
DTSTAMP:20260419T154431
SUMMARY:MyAuktion: Ablauf Artikel Nr. 955364 Seewald Ortho mykoXmas Drink je 140g
URL;VALUE=URI:https://www.myauktion.com/versteigerung7640-position2440037-seewald-ortho-mykoxmas-drink-je-140g.php
DESCRIPTION:MHD: 04/2027
UID:myauktion-7640-2440037
BEGIN:VALARM
ACTION:DISPLAY
DESCRIPTION:MHD: 04/2027
TRIGGER:-PT10M
END:VALARM
END:VEVENT
END:VCALENDAR