BEGIN:VCALENDAR
VERSION:2.0
PRODID:-//Goldgrube//myauktion.com//AT
CALSCALE:GREGORIAN
BEGIN:VEVENT
DTSTART:20260503T151100
DTEND:20260503T151130
LOCATION:Gewerbepark 13, 8562 Mooskirchen
DTSTAMP:20260419T142649
SUMMARY:MyAuktion: Ablauf Artikel Nr. 956218 Delonghi Classico Espresso  1000g ganze Bohnen 
URL;VALUE=URI:https://www.myauktion.com/versteigerung7640-position2440040-delonghi-classico-espresso-1000g-ganze-bohnen.php
DESCRIPTION:Mhd 09.02.27
UID:myauktion-7640-2440040
BEGIN:VALARM
ACTION:DISPLAY
DESCRIPTION:Mhd 09.02.27
TRIGGER:-PT10M
END:VALARM
END:VEVENT
END:VCALENDAR