BEGIN:VCALENDAR
VERSION:2.0
PRODID:-//Goldgrube//myauktion.com//AT
CALSCALE:GREGORIAN
BEGIN:VEVENT
DTSTART:20260503T151600
DTEND:20260503T151630
LOCATION:Gewerbepark 13, 8562 Mooskirchen
DTSTAMP:20260419T154426
SUMMARY:MyAuktion: Ablauf Artikel Nr. 956222 Jacobs Tassimo Cappuccino 260g 
URL;VALUE=URI:https://www.myauktion.com/versteigerung7640-position2440042-jacobs-tassimo-cappuccino-260g.php
DESCRIPTION:Mhd 17.05.26
UID:myauktion-7640-2440042
BEGIN:VALARM
ACTION:DISPLAY
DESCRIPTION:Mhd 17.05.26
TRIGGER:-PT10M
END:VALARM
END:VEVENT
END:VCALENDAR