BEGIN:VCALENDAR
VERSION:2.0
PRODID:-//Goldgrube//myauktion.com//AT
CALSCALE:GREGORIAN
BEGIN:VEVENT
DTSTART:20260503T143800
DTEND:20260503T143830
LOCATION:Gewerbepark 13, 8562 Mooskirchen
DTSTAMP:20260419T154428
SUMMARY:MyAuktion: Ablauf Artikel Nr. 955386 Waldviertler Premium Fink je 50ml
URL;VALUE=URI:https://www.myauktion.com/versteigerung7640-position2440043-waldviertler-premium-fink-je-50ml.php
DESCRIPTION:
UID:myauktion-7640-2440043
BEGIN:VALARM
ACTION:DISPLAY
DESCRIPTION:
TRIGGER:-PT10M
END:VALARM
END:VEVENT
END:VCALENDAR