BEGIN:VCALENDAR
VERSION:2.0
PRODID:-//Goldgrube//myauktion.com//AT
CALSCALE:GREGORIAN
BEGIN:VEVENT
DTSTART:20260503T144300
DTEND:20260503T144330
LOCATION:Gewerbepark 13, 8562 Mooskirchen
DTSTAMP:20260419T154434
SUMMARY:MyAuktion: Ablauf Artikel Nr. 955388 WOiF Waldviertler Premium Bio Gin je 500ml
URL;VALUE=URI:https://www.myauktion.com/versteigerung7640-position2440045-woif-waldviertler-premium-bio-gin-je-500ml.php
DESCRIPTION:
UID:myauktion-7640-2440045
BEGIN:VALARM
ACTION:DISPLAY
DESCRIPTION:
TRIGGER:-PT10M
END:VALARM
END:VEVENT
END:VCALENDAR