BEGIN:VCALENDAR
VERSION:2.0
PRODID:-//Goldgrube//myauktion.com//AT
CALSCALE:GREGORIAN
BEGIN:VEVENT
DTSTART:20260503T145100
DTEND:20260503T145130
LOCATION:Gewerbepark 13, 8562 Mooskirchen
DTSTAMP:20260419T154432
SUMMARY:MyAuktion: Ablauf Artikel Nr. 955391 M&S Empress Grey Bergamotte und Zitrus Tee je 125g
URL;VALUE=URI:https://www.myauktion.com/versteigerung7640-position2440047-m-38s-empress-grey-bergamotte-und-zitrus-tee-je-125g.php
DESCRIPTION:MHD: 12/2026
UID:myauktion-7640-2440047
BEGIN:VALARM
ACTION:DISPLAY
DESCRIPTION:MHD: 12/2026
TRIGGER:-PT10M
END:VALARM
END:VEVENT
END:VCALENDAR