BEGIN:VCALENDAR
VERSION:2.0
PRODID:-//Goldgrube//myauktion.com//AT
CALSCALE:GREGORIAN
BEGIN:VEVENT
DTSTART:20260503T152300
DTEND:20260503T152330
LOCATION:Gewerbepark 13, 8562 Mooskirchen
DTSTAMP:20260419T154433
SUMMARY:MyAuktion: Ablauf Artikel Nr. 956226 Sunday Natural Omega 3 Komplex DHA 400+EPA 200 90kapsel. 
URL;VALUE=URI:https://www.myauktion.com/versteigerung7640-position2440052-sunday-natural-omega-3-komplex-dha-400-epa-200-90kapsel.php
DESCRIPTION:Mhd 02.01.27
UID:myauktion-7640-2440052
BEGIN:VALARM
ACTION:DISPLAY
DESCRIPTION:Mhd 02.01.27
TRIGGER:-PT10M
END:VALARM
END:VEVENT
END:VCALENDAR