BEGIN:VCALENDAR
VERSION:2.0
PRODID:-//Goldgrube//myauktion.com//AT
CALSCALE:GREGORIAN
BEGIN:VEVENT
DTSTART:20260503T153900
DTEND:20260503T153930
LOCATION:Gewerbepark 13, 8562 Mooskirchen
DTSTAMP:20260419T154429
SUMMARY:MyAuktion: Ablauf Artikel Nr. 956234 Pieroth Excelsum Excellence Cuvée Rot 750ml
URL;VALUE=URI:https://www.myauktion.com/versteigerung7640-position2440058-pieroth-excelsum-excellence-cuvee-rot-750ml.php
DESCRIPTION:2024
UID:myauktion-7640-2440058
BEGIN:VALARM
ACTION:DISPLAY
DESCRIPTION:2024
TRIGGER:-PT10M
END:VALARM
END:VEVENT
END:VCALENDAR