BEGIN:VCALENDAR
VERSION:2.0
PRODID:-//Goldgrube//myauktion.com//AT
CALSCALE:GREGORIAN
BEGIN:VEVENT
DTSTART:20260503T173200
DTEND:20260503T173230
LOCATION:Gewerbepark 13, 8562 Mooskirchen
DTSTAMP:20260419T192343
SUMMARY:MyAuktion: Ablauf Artikel Nr. 957037 ApoFit Steinkleekraut je 100g
URL;VALUE=URI:https://www.myauktion.com/versteigerung7640-position2440060-apofit-steinkleekraut-je-100g.php
DESCRIPTION:MHD: 07.08.2027
UID:myauktion-7640-2440060
BEGIN:VALARM
ACTION:DISPLAY
DESCRIPTION:MHD: 07.08.2027
TRIGGER:-PT10M
END:VALARM
END:VEVENT
END:VCALENDAR