BEGIN:VCALENDAR
VERSION:2.0
PRODID:-//Goldgrube//myauktion.com//AT
CALSCALE:GREGORIAN
BEGIN:VEVENT
DTSTART:20260503T173700
DTEND:20260503T173730
LOCATION:Gewerbepark 13, 8562 Mooskirchen
DTSTAMP:20260419T162732
SUMMARY:MyAuktion: Ablauf Artikel Nr. 957039 ApoFit Heublumen je 100g
URL;VALUE=URI:https://www.myauktion.com/versteigerung7640-position2440062-apofit-heublumen-je-100g.php
DESCRIPTION:MHD: 10.10.2027
UID:myauktion-7640-2440062
BEGIN:VALARM
ACTION:DISPLAY
DESCRIPTION:MHD: 10.10.2027
TRIGGER:-PT10M
END:VALARM
END:VEVENT
END:VCALENDAR