BEGIN:VCALENDAR
VERSION:2.0
PRODID:-//Goldgrube//myauktion.com//AT
CALSCALE:GREGORIAN
BEGIN:VEVENT
DTSTART:20260503T174500
DTEND:20260503T174530
LOCATION:Gewerbepark 13, 8562 Mooskirchen
DTSTAMP:20260419T162730
SUMMARY:MyAuktion: Ablauf Artikel Nr. 957042 ApoFit Bockshornklee-Samen ganz, je 100g
URL;VALUE=URI:https://www.myauktion.com/versteigerung7640-position2440068-apofit-bockshornklee-samen-ganz-je-100g.php
DESCRIPTION:MHD: 31.05.2029
UID:myauktion-7640-2440068
BEGIN:VALARM
ACTION:DISPLAY
DESCRIPTION:MHD: 31.05.2029
TRIGGER:-PT10M
END:VALARM
END:VEVENT
END:VCALENDAR