BEGIN:VCALENDAR
VERSION:2.0
PRODID:-//Goldgrube//myauktion.com//AT
CALSCALE:GREGORIAN
BEGIN:VEVENT
DTSTART:20260503T160700
DTEND:20260503T160730
LOCATION:Gewerbepark 13, 8562 Mooskirchen
DTSTAMP:20260419T192354
SUMMARY:MyAuktion: Ablauf Artikel Nr. 956248 Proidl Senftenberg Steilheit Kremstal Riesling 0.75l
URL;VALUE=URI:https://www.myauktion.com/versteigerung7640-position2440070-proidl-senftenberg-steilheit-kremstal-riesling-075l.php
DESCRIPTION:2024
UID:myauktion-7640-2440070
BEGIN:VALARM
ACTION:DISPLAY
DESCRIPTION:2024
TRIGGER:-PT10M
END:VALARM
END:VEVENT
END:VCALENDAR