BEGIN:VCALENDAR
VERSION:2.0
PRODID:-//Goldgrube//myauktion.com//AT
CALSCALE:GREGORIAN
BEGIN:VEVENT
DTSTART:20260503T175700
DTEND:20260503T175730
LOCATION:Gewerbepark 13, 8562 Mooskirchen
DTSTAMP:20260419T220152
SUMMARY:MyAuktion: Ablauf Artikel Nr. 957047 DM Bio Haferdrink Natur je 1L
URL;VALUE=URI:https://www.myauktion.com/versteigerung7640-position2440072-dm-bio-haferdrink-natur-je-1l.php
DESCRIPTION:MHD: 25.09.2026
UID:myauktion-7640-2440072
BEGIN:VALARM
ACTION:DISPLAY
DESCRIPTION:MHD: 25.09.2026
TRIGGER:-PT10M
END:VALARM
END:VEVENT
END:VCALENDAR