BEGIN:VCALENDAR
VERSION:2.0
PRODID:-//Goldgrube//myauktion.com//AT
CALSCALE:GREGORIAN
BEGIN:VEVENT
DTSTART:20260502T114300
DTEND:20260502T114330
LOCATION:Gewerbepark 13, 8562 Mooskirchen
DTSTAMP:20260424T214008
SUMMARY:MyAuktion: Ablauf Artikel Nr. 956621 Liebeskind Imprägnier Spray für hochwertige Glattleder 200ml
URL;VALUE=URI:https://www.myauktion.com/versteigerung7642-position2440079-liebeskind-impraegnier-spray-fuer-hochwertige-glattleder-200ml.php
DESCRIPTION:
UID:myauktion-7642-2440079
BEGIN:VALARM
ACTION:DISPLAY
DESCRIPTION:
TRIGGER:-PT10M
END:VALARM
END:VEVENT
END:VCALENDAR