BEGIN:VCALENDAR
VERSION:2.0
PRODID:-//Goldgrube//myauktion.com//AT
CALSCALE:GREGORIAN
BEGIN:VEVENT
DTSTART:20260502T135600
DTEND:20260502T135630
LOCATION:Gewerbepark 13, 8562 Mooskirchen
DTSTAMP:20260421T003833
SUMMARY:MyAuktion: Ablauf Artikel Nr. 956706 Fripac-Medis Aluminium Haarfolie extra stark 50m x 10cm x 20my 
URL;VALUE=URI:https://www.myauktion.com/versteigerung7642-position2440348-fripac-medis-aluminium-haarfolie-extra-stark-50m-x-10cm-x-20my.php
DESCRIPTION:
UID:myauktion-7642-2440348
BEGIN:VALARM
ACTION:DISPLAY
DESCRIPTION:
TRIGGER:-PT10M
END:VALARM
END:VEVENT
END:VCALENDAR