BEGIN:VCALENDAR
VERSION:2.0
PRODID:-//Goldgrube//myauktion.com//AT
CALSCALE:GREGORIAN
BEGIN:VEVENT
DTSTART:20260504T090100
DTEND:20260504T090130
LOCATION:Gewerbepark 13, 8562 Mooskirchen
DTSTAMP:20260420T162250
SUMMARY:MyAuktion: Ablauf Artikel Nr. 957200 Bill Hybels Gottes leise Stimme hören
URL;VALUE=URI:https://www.myauktion.com/versteigerung7647-position2440433-bill-hybels-gottes-leise-stimme-hoeren.php
DESCRIPTION:Wie Gott zu uns spricht – und was passiert, wenn wir ihm folgen
UID:myauktion-7647-2440433
BEGIN:VALARM
ACTION:DISPLAY
DESCRIPTION:Wie Gott zu uns spricht – und was passiert, wenn wir ihm folgen
TRIGGER:-PT10M
END:VALARM
END:VEVENT
END:VCALENDAR