BEGIN:VCALENDAR
VERSION:2.0
PRODID:-//Goldgrube//myauktion.com//AT
CALSCALE:GREGORIAN
BEGIN:VEVENT
DTSTART:20260504T090500
DTEND:20260504T090530
LOCATION:Gewerbepark 13, 8562 Mooskirchen
DTSTAMP:20260420T162248
SUMMARY:MyAuktion: Ablauf Artikel Nr. 957204 Mein zauberhafter Garten Roman
URL;VALUE=URI:https://www.myauktion.com/versteigerung7647-position2440437-mein-zauberhafter-garten-roman.php
DESCRIPTION:
UID:myauktion-7647-2440437
BEGIN:VALARM
ACTION:DISPLAY
DESCRIPTION:
TRIGGER:-PT10M
END:VALARM
END:VEVENT
END:VCALENDAR