BEGIN:VCALENDAR
VERSION:2.0
PRODID:-//Goldgrube//myauktion.com//AT
CALSCALE:GREGORIAN
BEGIN:VEVENT
DTSTART:20260504T090600
DTEND:20260504T090630
LOCATION:Gewerbepark 13, 8562 Mooskirchen
DTSTAMP:20260420T162246
SUMMARY:MyAuktion: Ablauf Artikel Nr. 957205 Laura Baldini Lehrerin einer neuen Zeit Roman
URL;VALUE=URI:https://www.myauktion.com/versteigerung7647-position2440438-laura-baldini-lehrerin-einer-neuen-zeit-roman.php
DESCRIPTION:
UID:myauktion-7647-2440438
BEGIN:VALARM
ACTION:DISPLAY
DESCRIPTION:
TRIGGER:-PT10M
END:VALARM
END:VEVENT
END:VCALENDAR