BEGIN:VCALENDAR
VERSION:2.0
PRODID:-//Goldgrube//myauktion.com//AT
CALSCALE:GREGORIAN
BEGIN:VEVENT
DTSTART:20260504T090800
DTEND:20260504T090830
LOCATION:Gewerbepark 13, 8562 Mooskirchen
DTSTAMP:20260420T162243
SUMMARY:MyAuktion: Ablauf Artikel Nr. 957207 Die Bibel mit Impulsen von Joyce Meyer
URL;VALUE=URI:https://www.myauktion.com/versteigerung7647-position2440440-die-bibel-mit-impulsen-von-joyce-meyer.php
DESCRIPTION:
UID:myauktion-7647-2440440
BEGIN:VALARM
ACTION:DISPLAY
DESCRIPTION:
TRIGGER:-PT10M
END:VALARM
END:VEVENT
END:VCALENDAR