BEGIN:VCALENDAR
VERSION:2.0
PRODID:-//Goldgrube//myauktion.com//AT
CALSCALE:GREGORIAN
BEGIN:VEVENT
DTSTART:20260504T091000
DTEND:20260504T091030
LOCATION:Gewerbepark 13, 8562 Mooskirchen
DTSTAMP:20260420T162234
SUMMARY:MyAuktion: Ablauf Artikel Nr. 957209 Marco Wanda Dass es uns überhaupt gegeben hat
URL;VALUE=URI:https://www.myauktion.com/versteigerung7647-position2440442-marco-wanda-dass-es-uns-ueberhaupt-gegeben-hat.php
DESCRIPTION:
UID:myauktion-7647-2440442
BEGIN:VALARM
ACTION:DISPLAY
DESCRIPTION:
TRIGGER:-PT10M
END:VALARM
END:VEVENT
END:VCALENDAR