BEGIN:VCALENDAR
VERSION:2.0
PRODID:-//Goldgrube//myauktion.com//AT
CALSCALE:GREGORIAN
BEGIN:VEVENT
DTSTART:20260504T091100
DTEND:20260504T091130
LOCATION:Gewerbepark 13, 8562 Mooskirchen
DTSTAMP:20260420T162243
SUMMARY:MyAuktion: Ablauf Artikel Nr. 957210 blanvalet Der Sommer Sternschnuppen Roman
URL;VALUE=URI:https://www.myauktion.com/versteigerung7647-position2440443-blanvalet-der-sommer-sternschnuppen-roman.php
DESCRIPTION:
UID:myauktion-7647-2440443
BEGIN:VALARM
ACTION:DISPLAY
DESCRIPTION:
TRIGGER:-PT10M
END:VALARM
END:VEVENT
END:VCALENDAR