BEGIN:VCALENDAR
VERSION:2.0
PRODID:-//Goldgrube//myauktion.com//AT
CALSCALE:GREGORIAN
BEGIN:VEVENT
DTSTART:20260504T091300
DTEND:20260504T091330
LOCATION:Gewerbepark 13, 8562 Mooskirchen
DTSTAMP:20260420T124554
SUMMARY:MyAuktion: Ablauf Artikel Nr. 957212 Charlotte Brontë Jane Eyre
URL;VALUE=URI:https://www.myauktion.com/versteigerung7647-position2440445-charlotte-bronte-jane-eyre.php
DESCRIPTION:
UID:myauktion-7647-2440445
BEGIN:VALARM
ACTION:DISPLAY
DESCRIPTION:
TRIGGER:-PT10M
END:VALARM
END:VEVENT
END:VCALENDAR