BEGIN:VCALENDAR
VERSION:2.0
PRODID:-//Goldgrube//myauktion.com//AT
CALSCALE:GREGORIAN
BEGIN:VEVENT
DTSTART:20260504T091400
DTEND:20260504T091430
LOCATION:Gewerbepark 13, 8562 Mooskirchen
DTSTAMP:20260420T124554
SUMMARY:MyAuktion: Ablauf Artikel Nr. 957213 Jane Austen Emma
URL;VALUE=URI:https://www.myauktion.com/versteigerung7647-position2440446-jane-austen-emma.php
DESCRIPTION:
UID:myauktion-7647-2440446
BEGIN:VALARM
ACTION:DISPLAY
DESCRIPTION:
TRIGGER:-PT10M
END:VALARM
END:VEVENT
END:VCALENDAR